BEGIN:VCALENDAR
VERSION:2.0
PRODID:-//Lethbridge First Baptist Church - ECPv6.15.20//NONSGML v1.0//EN
CALSCALE:GREGORIAN
METHOD:PUBLISH
X-WR-CALNAME:Lethbridge First Baptist Church
X-ORIGINAL-URL:https://firstb.net
X-WR-CALDESC:Events for Lethbridge First Baptist Church
REFRESH-INTERVAL;VALUE=DURATION:PT1H
X-Robots-Tag:noindex
X-PUBLISHED-TTL:PT1H
BEGIN:VTIMEZONE
TZID:America/Edmonton
BEGIN:DAYLIGHT
TZOFFSETFROM:-0700
TZOFFSETTO:-0600
TZNAME:MDT
DTSTART:20250309T090000
END:DAYLIGHT
BEGIN:STANDARD
TZOFFSETFROM:-0600
TZOFFSETTO:-0700
TZNAME:MST
DTSTART:20251102T080000
END:STANDARD
BEGIN:DAYLIGHT
TZOFFSETFROM:-0700
TZOFFSETTO:-0600
TZNAME:MDT
DTSTART:20260308T090000
END:DAYLIGHT
BEGIN:STANDARD
TZOFFSETFROM:-0600
TZOFFSETTO:-0700
TZNAME:MST
DTSTART:20261101T080000
END:STANDARD
BEGIN:DAYLIGHT
TZOFFSETFROM:-0700
TZOFFSETTO:-0600
TZNAME:MDT
DTSTART:20270314T090000
END:DAYLIGHT
BEGIN:STANDARD
TZOFFSETFROM:-0600
TZOFFSETTO:-0700
TZNAME:MST
DTSTART:20271107T080000
END:STANDARD
END:VTIMEZONE
BEGIN:VEVENT
DTSTART;TZID=America/Edmonton:20260423T080000
DTEND;TZID=America/Edmonton:20260423T090000
DTSTAMP:20260421T062819
CREATED:20260325T154059Z
LAST-MODIFIED:20260325T154108Z
UID:10001425-1776931200-1776934800@firstb.net
SUMMARY:Men's Book Study
DESCRIPTION:Our men’s book study is reading Surprise the World by Skye Michael Frost. Talk to Mark if you’d like a book (mark@firstb.net). Meet in the Fireside Room.
URL:https://firstb.net/event/mens-book-study-11-2/2026-04-23/
END:VEVENT
BEGIN:VEVENT
DTSTART;TZID=America/Edmonton:20260430T080000
DTEND;TZID=America/Edmonton:20260430T090000
DTSTAMP:20260421T062819
CREATED:20260325T154059Z
LAST-MODIFIED:20260325T154108Z
UID:10001426-1777536000-1777539600@firstb.net
SUMMARY:Men's Book Study
DESCRIPTION:Our men’s book study is reading Surprise the World by Skye Michael Frost. Talk to Mark if you’d like a book (mark@firstb.net). Meet in the Fireside Room.
URL:https://firstb.net/event/mens-book-study-11-2/2026-04-30/
END:VEVENT
BEGIN:VEVENT
DTSTART;TZID=America/Edmonton:20260507T080000
DTEND;TZID=America/Edmonton:20260507T090000
DTSTAMP:20260421T062819
CREATED:20260325T154059Z
LAST-MODIFIED:20260325T154108Z
UID:10001427-1778140800-1778144400@firstb.net
SUMMARY:Men's Book Study
DESCRIPTION:Our men’s book study is reading Surprise the World by Skye Michael Frost. Talk to Mark if you’d like a book (mark@firstb.net). Meet in the Fireside Room.
URL:https://firstb.net/event/mens-book-study-11-2/2026-05-07/
END:VEVENT
BEGIN:VEVENT
DTSTART;TZID=America/Edmonton:20260514T080000
DTEND;TZID=America/Edmonton:20260514T090000
DTSTAMP:20260421T062819
CREATED:20260325T154059Z
LAST-MODIFIED:20260325T154108Z
UID:10001428-1778745600-1778749200@firstb.net
SUMMARY:Men's Book Study
DESCRIPTION:Our men’s book study is reading Surprise the World by Skye Michael Frost. Talk to Mark if you’d like a book (mark@firstb.net). Meet in the Fireside Room.
URL:https://firstb.net/event/mens-book-study-11-2/2026-05-14/
END:VEVENT
BEGIN:VEVENT
DTSTART;TZID=America/Edmonton:20260521T080000
DTEND;TZID=America/Edmonton:20260521T090000
DTSTAMP:20260421T062819
CREATED:20260325T154059Z
LAST-MODIFIED:20260325T154108Z
UID:10001429-1779350400-1779354000@firstb.net
SUMMARY:Men's Book Study
DESCRIPTION:Our men’s book study is reading Surprise the World by Skye Michael Frost. Talk to Mark if you’d like a book (mark@firstb.net). Meet in the Fireside Room.
URL:https://firstb.net/event/mens-book-study-11-2/2026-05-21/
END:VEVENT
BEGIN:VEVENT
DTSTART;TZID=America/Edmonton:20260528T080000
DTEND;TZID=America/Edmonton:20260528T090000
DTSTAMP:20260421T062819
CREATED:20260325T154059Z
LAST-MODIFIED:20260325T154108Z
UID:10001430-1779955200-1779958800@firstb.net
SUMMARY:Men's Book Study
DESCRIPTION:Our men’s book study is reading Surprise the World by Skye Michael Frost. Talk to Mark if you’d like a book (mark@firstb.net). Meet in the Fireside Room.
URL:https://firstb.net/event/mens-book-study-11-2/2026-05-28/
END:VEVENT
BEGIN:VEVENT
DTSTART;TZID=America/Edmonton:20260604T080000
DTEND;TZID=America/Edmonton:20260604T090000
DTSTAMP:20260421T062819
CREATED:20260325T154059Z
LAST-MODIFIED:20260325T154108Z
UID:10001431-1780560000-1780563600@firstb.net
SUMMARY:Men's Book Study
DESCRIPTION:Our men’s book study is reading Surprise the World by Skye Michael Frost. Talk to Mark if you’d like a book (mark@firstb.net). Meet in the Fireside Room.
URL:https://firstb.net/event/mens-book-study-11-2/2026-06-04/
END:VEVENT
BEGIN:VEVENT
DTSTART;TZID=America/Edmonton:20260611T080000
DTEND;TZID=America/Edmonton:20260611T090000
DTSTAMP:20260421T062819
CREATED:20260325T154059Z
LAST-MODIFIED:20260325T154108Z
UID:10001432-1781164800-1781168400@firstb.net
SUMMARY:Men's Book Study
DESCRIPTION:Our men’s book study is reading Surprise the World by Skye Michael Frost. Talk to Mark if you’d like a book (mark@firstb.net). Meet in the Fireside Room.
URL:https://firstb.net/event/mens-book-study-11-2/2026-06-11/
END:VEVENT
BEGIN:VEVENT
DTSTART;TZID=America/Edmonton:20260618T080000
DTEND;TZID=America/Edmonton:20260618T090000
DTSTAMP:20260421T062819
CREATED:20260325T154059Z
LAST-MODIFIED:20260325T154108Z
UID:10001433-1781769600-1781773200@firstb.net
SUMMARY:Men's Book Study
DESCRIPTION:Our men’s book study is reading Surprise the World by Skye Michael Frost. Talk to Mark if you’d like a book (mark@firstb.net). Meet in the Fireside Room.
URL:https://firstb.net/event/mens-book-study-11-2/2026-06-18/
END:VEVENT
BEGIN:VEVENT
DTSTART;TZID=America/Edmonton:20260625T080000
DTEND;TZID=America/Edmonton:20260625T090000
DTSTAMP:20260421T062819
CREATED:20260325T154059Z
LAST-MODIFIED:20260325T154108Z
UID:10001434-1782374400-1782378000@firstb.net
SUMMARY:Men's Book Study
DESCRIPTION:Our men’s book study is reading Surprise the World by Skye Michael Frost. Talk to Mark if you’d like a book (mark@firstb.net). Meet in the Fireside Room.
URL:https://firstb.net/event/mens-book-study-11-2/2026-06-25/
END:VEVENT
BEGIN:VEVENT
DTSTART;TZID=America/Edmonton:20260702T080000
DTEND;TZID=America/Edmonton:20260702T090000
DTSTAMP:20260421T062819
CREATED:20260325T154059Z
LAST-MODIFIED:20260325T154108Z
UID:10001435-1782979200-1782982800@firstb.net
SUMMARY:Men's Book Study
DESCRIPTION:Our men’s book study is reading Surprise the World by Skye Michael Frost. Talk to Mark if you’d like a book (mark@firstb.net). Meet in the Fireside Room.
URL:https://firstb.net/event/mens-book-study-11-2/2026-07-02/
END:VEVENT
BEGIN:VEVENT
DTSTART;TZID=America/Edmonton:20260709T080000
DTEND;TZID=America/Edmonton:20260709T090000
DTSTAMP:20260421T062819
CREATED:20260325T154059Z
LAST-MODIFIED:20260325T154108Z
UID:10001436-1783584000-1783587600@firstb.net
SUMMARY:Men's Book Study
DESCRIPTION:Our men’s book study is reading Surprise the World by Skye Michael Frost. Talk to Mark if you’d like a book (mark@firstb.net). Meet in the Fireside Room.
URL:https://firstb.net/event/mens-book-study-11-2/2026-07-09/
END:VEVENT
BEGIN:VEVENT
DTSTART;TZID=America/Edmonton:20260716T080000
DTEND;TZID=America/Edmonton:20260716T090000
DTSTAMP:20260421T062819
CREATED:20260325T154059Z
LAST-MODIFIED:20260325T154108Z
UID:10001437-1784188800-1784192400@firstb.net
SUMMARY:Men's Book Study
DESCRIPTION:Our men’s book study is reading Surprise the World by Skye Michael Frost. Talk to Mark if you’d like a book (mark@firstb.net). Meet in the Fireside Room.
URL:https://firstb.net/event/mens-book-study-11-2/2026-07-16/
END:VEVENT
BEGIN:VEVENT
DTSTART;TZID=America/Edmonton:20260723T080000
DTEND;TZID=America/Edmonton:20260723T090000
DTSTAMP:20260421T062819
CREATED:20260325T154059Z
LAST-MODIFIED:20260325T154108Z
UID:10001438-1784793600-1784797200@firstb.net
SUMMARY:Men's Book Study
DESCRIPTION:Our men’s book study is reading Surprise the World by Skye Michael Frost. Talk to Mark if you’d like a book (mark@firstb.net). Meet in the Fireside Room.
URL:https://firstb.net/event/mens-book-study-11-2/2026-07-23/
END:VEVENT
BEGIN:VEVENT
DTSTART;TZID=America/Edmonton:20260730T080000
DTEND;TZID=America/Edmonton:20260730T090000
DTSTAMP:20260421T062819
CREATED:20260325T154059Z
LAST-MODIFIED:20260325T154108Z
UID:10001439-1785398400-1785402000@firstb.net
SUMMARY:Men's Book Study
DESCRIPTION:Our men’s book study is reading Surprise the World by Skye Michael Frost. Talk to Mark if you’d like a book (mark@firstb.net). Meet in the Fireside Room.
URL:https://firstb.net/event/mens-book-study-11-2/2026-07-30/
END:VEVENT
BEGIN:VEVENT
DTSTART;TZID=America/Edmonton:20260806T080000
DTEND;TZID=America/Edmonton:20260806T090000
DTSTAMP:20260421T062819
CREATED:20260325T154059Z
LAST-MODIFIED:20260325T154108Z
UID:10001440-1786003200-1786006800@firstb.net
SUMMARY:Men's Book Study
DESCRIPTION:Our men’s book study is reading Surprise the World by Skye Michael Frost. Talk to Mark if you’d like a book (mark@firstb.net). Meet in the Fireside Room.
URL:https://firstb.net/event/mens-book-study-11-2/2026-08-06/
END:VEVENT
BEGIN:VEVENT
DTSTART;TZID=America/Edmonton:20260813T080000
DTEND;TZID=America/Edmonton:20260813T090000
DTSTAMP:20260421T062819
CREATED:20260325T154059Z
LAST-MODIFIED:20260325T154108Z
UID:10001441-1786608000-1786611600@firstb.net
SUMMARY:Men's Book Study
DESCRIPTION:Our men’s book study is reading Surprise the World by Skye Michael Frost. Talk to Mark if you’d like a book (mark@firstb.net). Meet in the Fireside Room.
URL:https://firstb.net/event/mens-book-study-11-2/2026-08-13/
END:VEVENT
BEGIN:VEVENT
DTSTART;TZID=America/Edmonton:20260820T080000
DTEND;TZID=America/Edmonton:20260820T090000
DTSTAMP:20260421T062819
CREATED:20260325T154059Z
LAST-MODIFIED:20260325T154108Z
UID:10001442-1787212800-1787216400@firstb.net
SUMMARY:Men's Book Study
DESCRIPTION:Our men’s book study is reading Surprise the World by Skye Michael Frost. Talk to Mark if you’d like a book (mark@firstb.net). Meet in the Fireside Room.
URL:https://firstb.net/event/mens-book-study-11-2/2026-08-20/
END:VEVENT
BEGIN:VEVENT
DTSTART;TZID=America/Edmonton:20260827T080000
DTEND;TZID=America/Edmonton:20260827T090000
DTSTAMP:20260421T062819
CREATED:20260325T154059Z
LAST-MODIFIED:20260325T154108Z
UID:10001443-1787817600-1787821200@firstb.net
SUMMARY:Men's Book Study
DESCRIPTION:Our men’s book study is reading Surprise the World by Skye Michael Frost. Talk to Mark if you’d like a book (mark@firstb.net). Meet in the Fireside Room.
URL:https://firstb.net/event/mens-book-study-11-2/2026-08-27/
END:VEVENT
BEGIN:VEVENT
DTSTART;TZID=America/Edmonton:20260903T080000
DTEND;TZID=America/Edmonton:20260903T090000
DTSTAMP:20260421T062819
CREATED:20260325T154059Z
LAST-MODIFIED:20260325T154108Z
UID:10001444-1788422400-1788426000@firstb.net
SUMMARY:Men's Book Study
DESCRIPTION:Our men’s book study is reading Surprise the World by Skye Michael Frost. Talk to Mark if you’d like a book (mark@firstb.net). Meet in the Fireside Room.
URL:https://firstb.net/event/mens-book-study-11-2/2026-09-03/
END:VEVENT
BEGIN:VEVENT
DTSTART;TZID=America/Edmonton:20260910T080000
DTEND;TZID=America/Edmonton:20260910T090000
DTSTAMP:20260421T062819
CREATED:20260325T154059Z
LAST-MODIFIED:20260325T154108Z
UID:10001445-1789027200-1789030800@firstb.net
SUMMARY:Men's Book Study
DESCRIPTION:Our men’s book study is reading Surprise the World by Skye Michael Frost. Talk to Mark if you’d like a book (mark@firstb.net). Meet in the Fireside Room.
URL:https://firstb.net/event/mens-book-study-11-2/2026-09-10/
END:VEVENT
BEGIN:VEVENT
DTSTART;TZID=America/Edmonton:20260917T080000
DTEND;TZID=America/Edmonton:20260917T090000
DTSTAMP:20260421T062819
CREATED:20260325T154059Z
LAST-MODIFIED:20260325T154108Z
UID:10001446-1789632000-1789635600@firstb.net
SUMMARY:Men's Book Study
DESCRIPTION:Our men’s book study is reading Surprise the World by Skye Michael Frost. Talk to Mark if you’d like a book (mark@firstb.net). Meet in the Fireside Room.
URL:https://firstb.net/event/mens-book-study-11-2/2026-09-17/
END:VEVENT
BEGIN:VEVENT
DTSTART;TZID=America/Edmonton:20260924T080000
DTEND;TZID=America/Edmonton:20260924T090000
DTSTAMP:20260421T062819
CREATED:20260325T154059Z
LAST-MODIFIED:20260325T154108Z
UID:10001447-1790236800-1790240400@firstb.net
SUMMARY:Men's Book Study
DESCRIPTION:Our men’s book study is reading Surprise the World by Skye Michael Frost. Talk to Mark if you’d like a book (mark@firstb.net). Meet in the Fireside Room.
URL:https://firstb.net/event/mens-book-study-11-2/2026-09-24/
END:VEVENT
BEGIN:VEVENT
DTSTART;TZID=America/Edmonton:20261001T080000
DTEND;TZID=America/Edmonton:20261001T090000
DTSTAMP:20260421T062819
CREATED:20260325T154059Z
LAST-MODIFIED:20260325T154108Z
UID:10001448-1790841600-1790845200@firstb.net
SUMMARY:Men's Book Study
DESCRIPTION:Our men’s book study is reading Surprise the World by Skye Michael Frost. Talk to Mark if you’d like a book (mark@firstb.net). Meet in the Fireside Room.
URL:https://firstb.net/event/mens-book-study-11-2/2026-10-01/
END:VEVENT
BEGIN:VEVENT
DTSTART;TZID=America/Edmonton:20261008T080000
DTEND;TZID=America/Edmonton:20261008T090000
DTSTAMP:20260421T062819
CREATED:20260325T154059Z
LAST-MODIFIED:20260325T154108Z
UID:10001449-1791446400-1791450000@firstb.net
SUMMARY:Men's Book Study
DESCRIPTION:Our men’s book study is reading Surprise the World by Skye Michael Frost. Talk to Mark if you’d like a book (mark@firstb.net). Meet in the Fireside Room.
URL:https://firstb.net/event/mens-book-study-11-2/2026-10-08/
END:VEVENT
BEGIN:VEVENT
DTSTART;TZID=America/Edmonton:20261015T080000
DTEND;TZID=America/Edmonton:20261015T090000
DTSTAMP:20260421T062819
CREATED:20260325T154059Z
LAST-MODIFIED:20260325T154108Z
UID:10001450-1792051200-1792054800@firstb.net
SUMMARY:Men's Book Study
DESCRIPTION:Our men’s book study is reading Surprise the World by Skye Michael Frost. Talk to Mark if you’d like a book (mark@firstb.net). Meet in the Fireside Room.
URL:https://firstb.net/event/mens-book-study-11-2/2026-10-15/
END:VEVENT
BEGIN:VEVENT
DTSTART;TZID=America/Edmonton:20261022T080000
DTEND;TZID=America/Edmonton:20261022T090000
DTSTAMP:20260421T062819
CREATED:20260325T154059Z
LAST-MODIFIED:20260325T154108Z
UID:10001451-1792656000-1792659600@firstb.net
SUMMARY:Men's Book Study
DESCRIPTION:Our men’s book study is reading Surprise the World by Skye Michael Frost. Talk to Mark if you’d like a book (mark@firstb.net). Meet in the Fireside Room.
URL:https://firstb.net/event/mens-book-study-11-2/2026-10-22/
END:VEVENT
BEGIN:VEVENT
DTSTART;TZID=America/Edmonton:20261029T080000
DTEND;TZID=America/Edmonton:20261029T090000
DTSTAMP:20260421T062819
CREATED:20260325T154059Z
LAST-MODIFIED:20260325T154108Z
UID:10001452-1793260800-1793264400@firstb.net
SUMMARY:Men's Book Study
DESCRIPTION:Our men’s book study is reading Surprise the World by Skye Michael Frost. Talk to Mark if you’d like a book (mark@firstb.net). Meet in the Fireside Room.
URL:https://firstb.net/event/mens-book-study-11-2/2026-10-29/
END:VEVENT
BEGIN:VEVENT
DTSTART;TZID=America/Edmonton:20261105T080000
DTEND;TZID=America/Edmonton:20261105T090000
DTSTAMP:20260421T062819
CREATED:20260325T154059Z
LAST-MODIFIED:20260325T154108Z
UID:10001453-1793865600-1793869200@firstb.net
SUMMARY:Men's Book Study
DESCRIPTION:Our men’s book study is reading Surprise the World by Skye Michael Frost. Talk to Mark if you’d like a book (mark@firstb.net). Meet in the Fireside Room.
URL:https://firstb.net/event/mens-book-study-11-2/2026-11-05/
END:VEVENT
BEGIN:VEVENT
DTSTART;TZID=America/Edmonton:20261112T080000
DTEND;TZID=America/Edmonton:20261112T090000
DTSTAMP:20260421T062819
CREATED:20260325T154059Z
LAST-MODIFIED:20260325T154108Z
UID:10001454-1794470400-1794474000@firstb.net
SUMMARY:Men's Book Study
DESCRIPTION:Our men’s book study is reading Surprise the World by Skye Michael Frost. Talk to Mark if you’d like a book (mark@firstb.net). Meet in the Fireside Room.
URL:https://firstb.net/event/mens-book-study-11-2/2026-11-12/
END:VEVENT
END:VCALENDAR