BEGIN:VCALENDAR
VERSION:2.0
PRODID:-//Lethbridge First Baptist Church - ECPv6.15.20//NONSGML v1.0//EN
CALSCALE:GREGORIAN
METHOD:PUBLISH
X-WR-CALNAME:Lethbridge First Baptist Church
X-ORIGINAL-URL:https://firstb.net
X-WR-CALDESC:Events for Lethbridge First Baptist Church
REFRESH-INTERVAL;VALUE=DURATION:PT1H
X-Robots-Tag:noindex
X-PUBLISHED-TTL:PT1H
BEGIN:VTIMEZONE
TZID:America/Edmonton
BEGIN:DAYLIGHT
TZOFFSETFROM:-0700
TZOFFSETTO:-0600
TZNAME:MDT
DTSTART:20250309T090000
END:DAYLIGHT
BEGIN:STANDARD
TZOFFSETFROM:-0600
TZOFFSETTO:-0700
TZNAME:MST
DTSTART:20251102T080000
END:STANDARD
BEGIN:DAYLIGHT
TZOFFSETFROM:-0700
TZOFFSETTO:-0600
TZNAME:MDT
DTSTART:20260308T090000
END:DAYLIGHT
BEGIN:STANDARD
TZOFFSETFROM:-0600
TZOFFSETTO:-0700
TZNAME:MST
DTSTART:20261101T080000
END:STANDARD
BEGIN:DAYLIGHT
TZOFFSETFROM:-0700
TZOFFSETTO:-0600
TZNAME:MDT
DTSTART:20270314T090000
END:DAYLIGHT
BEGIN:STANDARD
TZOFFSETFROM:-0600
TZOFFSETTO:-0700
TZNAME:MST
DTSTART:20271107T080000
END:STANDARD
END:VTIMEZONE
BEGIN:VEVENT
DTSTART;TZID=America/Edmonton:20260422T100000
DTEND;TZID=America/Edmonton:20260422T110000
DTSTAMP:20260421T051758
CREATED:20251028T193349Z
LAST-MODIFIED:20251230T171914Z
UID:10000629-1776852000-1776855600@firstb.net
SUMMARY:Drop In
DESCRIPTION:Join us for drop in games\, puzzles\, and more every Wednesday at 10:00 am!
URL:https://firstb.net/event/drop-in-19/2026-04-22/
END:VEVENT
BEGIN:VEVENT
DTSTART;TZID=America/Edmonton:20260429T100000
DTEND;TZID=America/Edmonton:20260429T110000
DTSTAMP:20260421T051758
CREATED:20251028T193349Z
LAST-MODIFIED:20251230T171914Z
UID:10000630-1777456800-1777460400@firstb.net
SUMMARY:Drop In
DESCRIPTION:Join us for drop in games\, puzzles\, and more every Wednesday at 10:00 am!
URL:https://firstb.net/event/drop-in-19/2026-04-29/
END:VEVENT
BEGIN:VEVENT
DTSTART;TZID=America/Edmonton:20260506T100000
DTEND;TZID=America/Edmonton:20260506T110000
DTSTAMP:20260421T051758
CREATED:20251028T193349Z
LAST-MODIFIED:20251230T171914Z
UID:10000631-1778061600-1778065200@firstb.net
SUMMARY:Drop In
DESCRIPTION:Join us for drop in games\, puzzles\, and more every Wednesday at 10:00 am!
URL:https://firstb.net/event/drop-in-19/2026-05-06/
END:VEVENT
BEGIN:VEVENT
DTSTART;TZID=America/Edmonton:20260513T100000
DTEND;TZID=America/Edmonton:20260513T110000
DTSTAMP:20260421T051758
CREATED:20251028T193349Z
LAST-MODIFIED:20251230T171914Z
UID:10000632-1778666400-1778670000@firstb.net
SUMMARY:Drop In
DESCRIPTION:Join us for drop in games\, puzzles\, and more every Wednesday at 10:00 am!
URL:https://firstb.net/event/drop-in-19/2026-05-13/
END:VEVENT
BEGIN:VEVENT
DTSTART;TZID=America/Edmonton:20260520T100000
DTEND;TZID=America/Edmonton:20260520T110000
DTSTAMP:20260421T051758
CREATED:20251028T193349Z
LAST-MODIFIED:20251230T171914Z
UID:10000633-1779271200-1779274800@firstb.net
SUMMARY:Drop In
DESCRIPTION:Join us for drop in games\, puzzles\, and more every Wednesday at 10:00 am!
URL:https://firstb.net/event/drop-in-19/2026-05-20/
END:VEVENT
BEGIN:VEVENT
DTSTART;TZID=America/Edmonton:20260527T100000
DTEND;TZID=America/Edmonton:20260527T110000
DTSTAMP:20260421T051758
CREATED:20251028T193349Z
LAST-MODIFIED:20251230T171914Z
UID:10000634-1779876000-1779879600@firstb.net
SUMMARY:Drop In
DESCRIPTION:Join us for drop in games\, puzzles\, and more every Wednesday at 10:00 am!
URL:https://firstb.net/event/drop-in-19/2026-05-27/
END:VEVENT
BEGIN:VEVENT
DTSTART;TZID=America/Edmonton:20260603T100000
DTEND;TZID=America/Edmonton:20260603T110000
DTSTAMP:20260421T051758
CREATED:20251028T193349Z
LAST-MODIFIED:20251230T171914Z
UID:10000635-1780480800-1780484400@firstb.net
SUMMARY:Drop In
DESCRIPTION:Join us for drop in games\, puzzles\, and more every Wednesday at 10:00 am!
URL:https://firstb.net/event/drop-in-19/2026-06-03/
END:VEVENT
BEGIN:VEVENT
DTSTART;TZID=America/Edmonton:20260610T100000
DTEND;TZID=America/Edmonton:20260610T110000
DTSTAMP:20260421T051758
CREATED:20251028T193349Z
LAST-MODIFIED:20251230T171914Z
UID:10000636-1781085600-1781089200@firstb.net
SUMMARY:Drop In
DESCRIPTION:Join us for drop in games\, puzzles\, and more every Wednesday at 10:00 am!
URL:https://firstb.net/event/drop-in-19/2026-06-10/
END:VEVENT
BEGIN:VEVENT
DTSTART;TZID=America/Edmonton:20260617T100000
DTEND;TZID=America/Edmonton:20260617T110000
DTSTAMP:20260421T051758
CREATED:20251028T193349Z
LAST-MODIFIED:20251230T171914Z
UID:10000637-1781690400-1781694000@firstb.net
SUMMARY:Drop In
DESCRIPTION:Join us for drop in games\, puzzles\, and more every Wednesday at 10:00 am!
URL:https://firstb.net/event/drop-in-19/2026-06-17/
END:VEVENT
BEGIN:VEVENT
DTSTART;TZID=America/Edmonton:20260624T100000
DTEND;TZID=America/Edmonton:20260624T110000
DTSTAMP:20260421T051758
CREATED:20251028T193349Z
LAST-MODIFIED:20251230T171914Z
UID:10000638-1782295200-1782298800@firstb.net
SUMMARY:Drop In
DESCRIPTION:Join us for drop in games\, puzzles\, and more every Wednesday at 10:00 am!
URL:https://firstb.net/event/drop-in-19/2026-06-24/
END:VEVENT
END:VCALENDAR