BEGIN:VCALENDAR
VERSION:2.0
PRODID:-//Lethbridge First Baptist Church - ECPv6.15.20//NONSGML v1.0//EN
CALSCALE:GREGORIAN
METHOD:PUBLISH
X-WR-CALNAME:Lethbridge First Baptist Church
X-ORIGINAL-URL:https://firstb.net
X-WR-CALDESC:Events for Lethbridge First Baptist Church
REFRESH-INTERVAL;VALUE=DURATION:PT1H
X-Robots-Tag:noindex
X-PUBLISHED-TTL:PT1H
BEGIN:VTIMEZONE
TZID:America/Edmonton
BEGIN:DAYLIGHT
TZOFFSETFROM:-0700
TZOFFSETTO:-0600
TZNAME:MDT
DTSTART:20250309T090000
END:DAYLIGHT
BEGIN:STANDARD
TZOFFSETFROM:-0600
TZOFFSETTO:-0700
TZNAME:MST
DTSTART:20251102T080000
END:STANDARD
BEGIN:DAYLIGHT
TZOFFSETFROM:-0700
TZOFFSETTO:-0600
TZNAME:MDT
DTSTART:20260308T090000
END:DAYLIGHT
BEGIN:STANDARD
TZOFFSETFROM:-0600
TZOFFSETTO:-0700
TZNAME:MST
DTSTART:20261101T080000
END:STANDARD
BEGIN:DAYLIGHT
TZOFFSETFROM:-0700
TZOFFSETTO:-0600
TZNAME:MDT
DTSTART:20270314T090000
END:DAYLIGHT
BEGIN:STANDARD
TZOFFSETFROM:-0600
TZOFFSETTO:-0700
TZNAME:MST
DTSTART:20271107T080000
END:STANDARD
BEGIN:DAYLIGHT
TZOFFSETFROM:-0700
TZOFFSETTO:-0600
TZNAME:MDT
DTSTART:20280312T090000
END:DAYLIGHT
BEGIN:STANDARD
TZOFFSETFROM:-0600
TZOFFSETTO:-0700
TZNAME:MST
DTSTART:20281105T080000
END:STANDARD
END:VTIMEZONE
BEGIN:VEVENT
DTSTART;TZID=America/Edmonton:20260429T183000
DTEND;TZID=America/Edmonton:20260429T200000
DTSTAMP:20260421T070025
CREATED:20250814T183625Z
LAST-MODIFIED:20251230T165846Z
UID:10000367-1777487400-1777492800@firstb.net
SUMMARY:Exodus Bible Study
DESCRIPTION:This group meets on alternate Wednesdays to study Exodus together. Contact Katelyn for more information.
URL:https://firstb.net/event/exodus-bible-study-8/2026-04-29/
END:VEVENT
BEGIN:VEVENT
DTSTART;TZID=America/Edmonton:20260513T183000
DTEND;TZID=America/Edmonton:20260513T200000
DTSTAMP:20260421T070025
CREATED:20250814T183625Z
LAST-MODIFIED:20251230T165846Z
UID:10000368-1778697000-1778702400@firstb.net
SUMMARY:Exodus Bible Study
DESCRIPTION:This group meets on alternate Wednesdays to study Exodus together. Contact Katelyn for more information.
URL:https://firstb.net/event/exodus-bible-study-8/2026-05-13/
END:VEVENT
BEGIN:VEVENT
DTSTART;TZID=America/Edmonton:20260527T183000
DTEND;TZID=America/Edmonton:20260527T200000
DTSTAMP:20260421T070025
CREATED:20250814T183625Z
LAST-MODIFIED:20251230T165846Z
UID:10000369-1779906600-1779912000@firstb.net
SUMMARY:Exodus Bible Study
DESCRIPTION:This group meets on alternate Wednesdays to study Exodus together. Contact Katelyn for more information.
URL:https://firstb.net/event/exodus-bible-study-8/2026-05-27/
END:VEVENT
BEGIN:VEVENT
DTSTART;TZID=America/Edmonton:20260610T183000
DTEND;TZID=America/Edmonton:20260610T200000
DTSTAMP:20260421T070025
CREATED:20250814T183625Z
LAST-MODIFIED:20251230T165846Z
UID:10000370-1781116200-1781121600@firstb.net
SUMMARY:Exodus Bible Study
DESCRIPTION:This group meets on alternate Wednesdays to study Exodus together. Contact Katelyn for more information.
URL:https://firstb.net/event/exodus-bible-study-8/2026-06-10/
END:VEVENT
BEGIN:VEVENT
DTSTART;TZID=America/Edmonton:20260624T183000
DTEND;TZID=America/Edmonton:20260624T200000
DTSTAMP:20260421T070025
CREATED:20250814T183625Z
LAST-MODIFIED:20251230T165846Z
UID:10000371-1782325800-1782331200@firstb.net
SUMMARY:Exodus Bible Study
DESCRIPTION:This group meets on alternate Wednesdays to study Exodus together. Contact Katelyn for more information.
URL:https://firstb.net/event/exodus-bible-study-8/2026-06-24/
END:VEVENT
BEGIN:VEVENT
DTSTART;TZID=America/Edmonton:20260708T183000
DTEND;TZID=America/Edmonton:20260708T200000
DTSTAMP:20260421T070025
CREATED:20250814T183625Z
LAST-MODIFIED:20251230T165846Z
UID:10000372-1783535400-1783540800@firstb.net
SUMMARY:Exodus Bible Study
DESCRIPTION:This group meets on alternate Wednesdays to study Exodus together. Contact Katelyn for more information.
URL:https://firstb.net/event/exodus-bible-study-8/2026-07-08/
END:VEVENT
BEGIN:VEVENT
DTSTART;TZID=America/Edmonton:20260722T183000
DTEND;TZID=America/Edmonton:20260722T200000
DTSTAMP:20260421T070025
CREATED:20250814T183625Z
LAST-MODIFIED:20251230T165846Z
UID:10000373-1784745000-1784750400@firstb.net
SUMMARY:Exodus Bible Study
DESCRIPTION:This group meets on alternate Wednesdays to study Exodus together. Contact Katelyn for more information.
URL:https://firstb.net/event/exodus-bible-study-8/2026-07-22/
END:VEVENT
BEGIN:VEVENT
DTSTART;TZID=America/Edmonton:20260805T183000
DTEND;TZID=America/Edmonton:20260805T200000
DTSTAMP:20260421T070025
CREATED:20250814T183625Z
LAST-MODIFIED:20251230T165846Z
UID:10000374-1785954600-1785960000@firstb.net
SUMMARY:Exodus Bible Study
DESCRIPTION:This group meets on alternate Wednesdays to study Exodus together. Contact Katelyn for more information.
URL:https://firstb.net/event/exodus-bible-study-8/2026-08-05/
END:VEVENT
BEGIN:VEVENT
DTSTART;TZID=America/Edmonton:20260819T183000
DTEND;TZID=America/Edmonton:20260819T200000
DTSTAMP:20260421T070025
CREATED:20250814T183625Z
LAST-MODIFIED:20251230T165846Z
UID:10000375-1787164200-1787169600@firstb.net
SUMMARY:Exodus Bible Study
DESCRIPTION:This group meets on alternate Wednesdays to study Exodus together. Contact Katelyn for more information.
URL:https://firstb.net/event/exodus-bible-study-8/2026-08-19/
END:VEVENT
BEGIN:VEVENT
DTSTART;TZID=America/Edmonton:20260902T183000
DTEND;TZID=America/Edmonton:20260902T200000
DTSTAMP:20260421T070025
CREATED:20250814T183625Z
LAST-MODIFIED:20251230T165846Z
UID:10000376-1788373800-1788379200@firstb.net
SUMMARY:Exodus Bible Study
DESCRIPTION:This group meets on alternate Wednesdays to study Exodus together. Contact Katelyn for more information.
URL:https://firstb.net/event/exodus-bible-study-8/2026-09-02/
END:VEVENT
BEGIN:VEVENT
DTSTART;TZID=America/Edmonton:20260916T183000
DTEND;TZID=America/Edmonton:20260916T200000
DTSTAMP:20260421T070025
CREATED:20250814T183625Z
LAST-MODIFIED:20251230T165846Z
UID:10000377-1789583400-1789588800@firstb.net
SUMMARY:Exodus Bible Study
DESCRIPTION:This group meets on alternate Wednesdays to study Exodus together. Contact Katelyn for more information.
URL:https://firstb.net/event/exodus-bible-study-8/2026-09-16/
END:VEVENT
BEGIN:VEVENT
DTSTART;TZID=America/Edmonton:20260930T183000
DTEND;TZID=America/Edmonton:20260930T200000
DTSTAMP:20260421T070025
CREATED:20250814T183625Z
LAST-MODIFIED:20251230T165846Z
UID:10000378-1790793000-1790798400@firstb.net
SUMMARY:Exodus Bible Study
DESCRIPTION:This group meets on alternate Wednesdays to study Exodus together. Contact Katelyn for more information.
URL:https://firstb.net/event/exodus-bible-study-8/2026-09-30/
END:VEVENT
BEGIN:VEVENT
DTSTART;TZID=America/Edmonton:20261014T183000
DTEND;TZID=America/Edmonton:20261014T200000
DTSTAMP:20260421T070025
CREATED:20250814T183625Z
LAST-MODIFIED:20251230T165846Z
UID:10000379-1792002600-1792008000@firstb.net
SUMMARY:Exodus Bible Study
DESCRIPTION:This group meets on alternate Wednesdays to study Exodus together. Contact Katelyn for more information.
URL:https://firstb.net/event/exodus-bible-study-8/2026-10-14/
END:VEVENT
BEGIN:VEVENT
DTSTART;TZID=America/Edmonton:20261028T183000
DTEND;TZID=America/Edmonton:20261028T200000
DTSTAMP:20260421T070025
CREATED:20250814T183625Z
LAST-MODIFIED:20251230T165846Z
UID:10000380-1793212200-1793217600@firstb.net
SUMMARY:Exodus Bible Study
DESCRIPTION:This group meets on alternate Wednesdays to study Exodus together. Contact Katelyn for more information.
URL:https://firstb.net/event/exodus-bible-study-8/2026-10-28/
END:VEVENT
BEGIN:VEVENT
DTSTART;TZID=America/Edmonton:20261111T183000
DTEND;TZID=America/Edmonton:20261111T200000
DTSTAMP:20260421T070025
CREATED:20250814T183625Z
LAST-MODIFIED:20251230T165846Z
UID:10000381-1794421800-1794427200@firstb.net
SUMMARY:Exodus Bible Study
DESCRIPTION:This group meets on alternate Wednesdays to study Exodus together. Contact Katelyn for more information.
URL:https://firstb.net/event/exodus-bible-study-8/2026-11-11/
END:VEVENT
BEGIN:VEVENT
DTSTART;TZID=America/Edmonton:20261125T183000
DTEND;TZID=America/Edmonton:20261125T200000
DTSTAMP:20260421T070025
CREATED:20250814T183625Z
LAST-MODIFIED:20251230T165846Z
UID:10000382-1795631400-1795636800@firstb.net
SUMMARY:Exodus Bible Study
DESCRIPTION:This group meets on alternate Wednesdays to study Exodus together. Contact Katelyn for more information.
URL:https://firstb.net/event/exodus-bible-study-8/2026-11-25/
END:VEVENT
BEGIN:VEVENT
DTSTART;TZID=America/Edmonton:20261209T183000
DTEND;TZID=America/Edmonton:20261209T200000
DTSTAMP:20260421T070025
CREATED:20250814T183625Z
LAST-MODIFIED:20251230T165846Z
UID:10000383-1796841000-1796846400@firstb.net
SUMMARY:Exodus Bible Study
DESCRIPTION:This group meets on alternate Wednesdays to study Exodus together. Contact Katelyn for more information.
URL:https://firstb.net/event/exodus-bible-study-8/2026-12-09/
END:VEVENT
BEGIN:VEVENT
DTSTART;TZID=America/Edmonton:20261223T183000
DTEND;TZID=America/Edmonton:20261223T200000
DTSTAMP:20260421T070025
CREATED:20250814T183625Z
LAST-MODIFIED:20251230T165846Z
UID:10000384-1798050600-1798056000@firstb.net
SUMMARY:Exodus Bible Study
DESCRIPTION:This group meets on alternate Wednesdays to study Exodus together. Contact Katelyn for more information.
URL:https://firstb.net/event/exodus-bible-study-8/2026-12-23/
END:VEVENT
BEGIN:VEVENT
DTSTART;TZID=America/Edmonton:20270106T183000
DTEND;TZID=America/Edmonton:20270106T200000
DTSTAMP:20260421T070025
CREATED:20250814T183625Z
LAST-MODIFIED:20251230T165846Z
UID:10000385-1799260200-1799265600@firstb.net
SUMMARY:Exodus Bible Study
DESCRIPTION:This group meets on alternate Wednesdays to study Exodus together. Contact Katelyn for more information.
URL:https://firstb.net/event/exodus-bible-study-8/2027-01-06/
END:VEVENT
BEGIN:VEVENT
DTSTART;TZID=America/Edmonton:20270120T183000
DTEND;TZID=America/Edmonton:20270120T200000
DTSTAMP:20260421T070025
CREATED:20250814T183625Z
LAST-MODIFIED:20251230T165846Z
UID:10000386-1800469800-1800475200@firstb.net
SUMMARY:Exodus Bible Study
DESCRIPTION:This group meets on alternate Wednesdays to study Exodus together. Contact Katelyn for more information.
URL:https://firstb.net/event/exodus-bible-study-8/2027-01-20/
END:VEVENT
BEGIN:VEVENT
DTSTART;TZID=America/Edmonton:20270203T183000
DTEND;TZID=America/Edmonton:20270203T200000
DTSTAMP:20260421T070025
CREATED:20250814T183625Z
LAST-MODIFIED:20251230T165846Z
UID:10000387-1801679400-1801684800@firstb.net
SUMMARY:Exodus Bible Study
DESCRIPTION:This group meets on alternate Wednesdays to study Exodus together. Contact Katelyn for more information.
URL:https://firstb.net/event/exodus-bible-study-8/2027-02-03/
END:VEVENT
BEGIN:VEVENT
DTSTART;TZID=America/Edmonton:20270217T183000
DTEND;TZID=America/Edmonton:20270217T200000
DTSTAMP:20260421T070025
CREATED:20250814T183625Z
LAST-MODIFIED:20251230T165846Z
UID:10000388-1802889000-1802894400@firstb.net
SUMMARY:Exodus Bible Study
DESCRIPTION:This group meets on alternate Wednesdays to study Exodus together. Contact Katelyn for more information.
URL:https://firstb.net/event/exodus-bible-study-8/2027-02-17/
END:VEVENT
BEGIN:VEVENT
DTSTART;TZID=America/Edmonton:20270303T183000
DTEND;TZID=America/Edmonton:20270303T200000
DTSTAMP:20260421T070025
CREATED:20250814T183625Z
LAST-MODIFIED:20251230T165846Z
UID:10000389-1804098600-1804104000@firstb.net
SUMMARY:Exodus Bible Study
DESCRIPTION:This group meets on alternate Wednesdays to study Exodus together. Contact Katelyn for more information.
URL:https://firstb.net/event/exodus-bible-study-8/2027-03-03/
END:VEVENT
BEGIN:VEVENT
DTSTART;TZID=America/Edmonton:20270317T183000
DTEND;TZID=America/Edmonton:20270317T200000
DTSTAMP:20260421T070025
CREATED:20250814T183625Z
LAST-MODIFIED:20251230T165846Z
UID:10000390-1805308200-1805313600@firstb.net
SUMMARY:Exodus Bible Study
DESCRIPTION:This group meets on alternate Wednesdays to study Exodus together. Contact Katelyn for more information.
URL:https://firstb.net/event/exodus-bible-study-8/2027-03-17/
END:VEVENT
BEGIN:VEVENT
DTSTART;TZID=America/Edmonton:20270331T183000
DTEND;TZID=America/Edmonton:20270331T200000
DTSTAMP:20260421T070025
CREATED:20250814T183625Z
LAST-MODIFIED:20251230T165846Z
UID:10000391-1806517800-1806523200@firstb.net
SUMMARY:Exodus Bible Study
DESCRIPTION:This group meets on alternate Wednesdays to study Exodus together. Contact Katelyn for more information.
URL:https://firstb.net/event/exodus-bible-study-8/2027-03-31/
END:VEVENT
BEGIN:VEVENT
DTSTART;TZID=America/Edmonton:20270414T183000
DTEND;TZID=America/Edmonton:20270414T200000
DTSTAMP:20260421T070025
CREATED:20250814T183625Z
LAST-MODIFIED:20251230T165846Z
UID:10000392-1807727400-1807732800@firstb.net
SUMMARY:Exodus Bible Study
DESCRIPTION:This group meets on alternate Wednesdays to study Exodus together. Contact Katelyn for more information.
URL:https://firstb.net/event/exodus-bible-study-8/2027-04-14/
END:VEVENT
BEGIN:VEVENT
DTSTART;TZID=America/Edmonton:20270428T183000
DTEND;TZID=America/Edmonton:20270428T200000
DTSTAMP:20260421T070025
CREATED:20250814T183625Z
LAST-MODIFIED:20251230T165846Z
UID:10000393-1808937000-1808942400@firstb.net
SUMMARY:Exodus Bible Study
DESCRIPTION:This group meets on alternate Wednesdays to study Exodus together. Contact Katelyn for more information.
URL:https://firstb.net/event/exodus-bible-study-8/2027-04-28/
END:VEVENT
END:VCALENDAR