BEGIN:VCALENDAR
VERSION:2.0
PRODID:-//Lethbridge First Baptist Church - ECPv6.15.20//NONSGML v1.0//EN
CALSCALE:GREGORIAN
METHOD:PUBLISH
X-WR-CALNAME:Lethbridge First Baptist Church
X-ORIGINAL-URL:https://firstb.net
X-WR-CALDESC:Events for Lethbridge First Baptist Church
REFRESH-INTERVAL;VALUE=DURATION:PT1H
X-Robots-Tag:noindex
X-PUBLISHED-TTL:PT1H
BEGIN:VTIMEZONE
TZID:America/Edmonton
BEGIN:DAYLIGHT
TZOFFSETFROM:-0700
TZOFFSETTO:-0600
TZNAME:MDT
DTSTART:20250309T090000
END:DAYLIGHT
BEGIN:STANDARD
TZOFFSETFROM:-0600
TZOFFSETTO:-0700
TZNAME:MST
DTSTART:20251102T080000
END:STANDARD
BEGIN:DAYLIGHT
TZOFFSETFROM:-0700
TZOFFSETTO:-0600
TZNAME:MDT
DTSTART:20260308T090000
END:DAYLIGHT
BEGIN:STANDARD
TZOFFSETFROM:-0600
TZOFFSETTO:-0700
TZNAME:MST
DTSTART:20261101T080000
END:STANDARD
BEGIN:DAYLIGHT
TZOFFSETFROM:-0700
TZOFFSETTO:-0600
TZNAME:MDT
DTSTART:20270314T090000
END:DAYLIGHT
BEGIN:STANDARD
TZOFFSETFROM:-0600
TZOFFSETTO:-0700
TZNAME:MST
DTSTART:20271107T080000
END:STANDARD
END:VTIMEZONE
BEGIN:VEVENT
DTSTART;TZID=America/Edmonton:20260423T080000
DTEND;TZID=America/Edmonton:20260423T090000
DTSTAMP:20260423T050749
CREATED:20260325T154059Z
LAST-MODIFIED:20260325T154108Z
UID:10001425-1776931200-1776934800@firstb.net
SUMMARY:Men's Book Study
DESCRIPTION:Our men’s book study is reading Surprise the World by Skye Michael Frost. Talk to Mark if you’d like a book (mark@firstb.net). Meet in the Fireside Room.
URL:https://firstb.net/event/mens-book-study-11-2/2026-04-23/
END:VEVENT
BEGIN:VEVENT
DTSTART;TZID=America/Edmonton:20260423T093000
DTEND;TZID=America/Edmonton:20260423T113000
DTSTAMP:20260423T050749
CREATED:20251028T191740Z
LAST-MODIFIED:20260119T160018Z
UID:10000706-1776936600-1776943800@firstb.net
SUMMARY:Art Class
DESCRIPTION:Our weekly art class meets in the Fireside Room!
URL:https://firstb.net/event/art-class-15/2026-04-23/
END:VEVENT
END:VCALENDAR